BEGIN:VCALENDAR
VERSION:2.0
PRODID:-//tickpo.sk Events Calendar//tickpo.sk//
BEGIN:VEVENT
SUMMARY:Večer zVEDAvých NERD NITE
DTSTART:20260522T190043
DTEND:20260522T190043
DTSTAMP:20260522T190043Z
UID:51589.event.events.sk.tickpo
END:VEVENT
END:VCALENDAR
